BEGIN:VCALENDAR
VERSION:2.0
PRODID:-//Cardiff UCU - ECPv6.15.17.1//NONSGML v1.0//EN
CALSCALE:GREGORIAN
METHOD:PUBLISH
X-ORIGINAL-URL:https://www.cardiffucu.org.uk
X-WR-CALDESC:Events for Cardiff UCU
REFRESH-INTERVAL;VALUE=DURATION:PT1H
X-Robots-Tag:noindex
X-PUBLISHED-TTL:PT1H
BEGIN:VTIMEZONE
TZID:Europe/London
BEGIN:DAYLIGHT
TZOFFSETFROM:+0000
TZOFFSETTO:+0100
TZNAME:BST
DTSTART:20230326T010000
END:DAYLIGHT
BEGIN:STANDARD
TZOFFSETFROM:+0100
TZOFFSETTO:+0000
TZNAME:GMT
DTSTART:20231029T010000
END:STANDARD
BEGIN:DAYLIGHT
TZOFFSETFROM:+0000
TZOFFSETTO:+0100
TZNAME:BST
DTSTART:20240331T010000
END:DAYLIGHT
BEGIN:STANDARD
TZOFFSETFROM:+0100
TZOFFSETTO:+0000
TZNAME:GMT
DTSTART:20241027T010000
END:STANDARD
BEGIN:DAYLIGHT
TZOFFSETFROM:+0000
TZOFFSETTO:+0100
TZNAME:BST
DTSTART:20250330T010000
END:DAYLIGHT
BEGIN:STANDARD
TZOFFSETFROM:+0100
TZOFFSETTO:+0000
TZNAME:GMT
DTSTART:20251026T010000
END:STANDARD
END:VTIMEZONE
BEGIN:VEVENT
DTSTART;TZID=Europe/London:20240306T100000
DTEND;TZID=Europe/London:20240306T100000
DTSTAMP:20260423T135510
CREATED:20231012T144626Z
LAST-MODIFIED:20231012T144818Z
UID:4297-1709719200-1709719200@www.cardiffucu.org.uk
SUMMARY:March Anti-Casualisation Working Group
DESCRIPTION:
URL:https://www.cardiffucu.org.uk/event/march-anti-casualisation-working-group/
END:VEVENT
BEGIN:VEVENT
DTSTART;TZID=Europe/London:20240310T130000
DTEND;TZID=Europe/London:20240310T130000
DTSTAMP:20260423T135510
CREATED:20240909T160404Z
LAST-MODIFIED:20240909T160404Z
UID:4666-1710075600-1710075600@www.cardiffucu.org.uk
SUMMARY:October Executive committee meeting
DESCRIPTION:Meeting for executive committee members. Lay members can get in touch with the relevant executive committee member to raise any issues they would like to be discussed by the committee in advance of the meeting.
URL:https://www.cardiffucu.org.uk/event/october-executive-committee-meeting/
END:VEVENT
BEGIN:VEVENT
DTSTART;TZID=Europe/London:20240311T120000
DTEND;TZID=Europe/London:20240311T123000
DTSTAMP:20260423T135510
CREATED:20231123T145842Z
LAST-MODIFIED:20240307T161947Z
UID:4394-1710158400-1710160200@www.cardiffucu.org.uk
SUMMARY:March Equality Diversity and Inclusion Working Group
DESCRIPTION:
URL:https://www.cardiffucu.org.uk/event/march-equality-diversity-and-inclusion-working-group/
END:VEVENT
BEGIN:VEVENT
DTSTART;TZID=Europe/London:20240313T150000
DTEND;TZID=Europe/London:20240313T160000
DTSTAMP:20260423T135510
CREATED:20240307T170041Z
LAST-MODIFIED:20240307T170041Z
UID:4534-1710342000-1710345600@www.cardiffucu.org.uk
SUMMARY:March Environmental Working Group Meeting
DESCRIPTION:
URL:https://www.cardiffucu.org.uk/event/march-environmental-working-group-meeting/
END:VEVENT
BEGIN:VEVENT
DTSTART;TZID=Europe/London:20240320T130000
DTEND;TZID=Europe/London:20240320T140000
DTSTAMP:20260423T135510
CREATED:20240307T165303Z
LAST-MODIFIED:20240307T165303Z
UID:4526-1710939600-1710943200@www.cardiffucu.org.uk
SUMMARY:March Workload Meeting
DESCRIPTION:
URL:https://www.cardiffucu.org.uk/event/march-workload-meeting/
END:VEVENT
BEGIN:VEVENT
DTSTART;TZID=Europe/London:20240321T120000
DTEND;TZID=Europe/London:20240321T120000
DTSTAMP:20260423T135510
CREATED:20231012T111241Z
LAST-MODIFIED:20231012T111241Z
UID:4246-1711022400-1711022400@www.cardiffucu.org.uk
SUMMARY:Exec Meeting
DESCRIPTION:Cardiff UCU executive meeting. Please contact the relevant officer if you would like anything raised.
URL:https://www.cardiffucu.org.uk/event/exec-meeting-7/
END:VEVENT
END:VCALENDAR