BEGIN:VCALENDAR
VERSION:2.0
PRODID:-//Cardiff UCU - ECPv6.15.17.1//NONSGML v1.0//EN
CALSCALE:GREGORIAN
METHOD:PUBLISH
X-ORIGINAL-URL:https://www.cardiffucu.org.uk
X-WR-CALDESC:Events for Cardiff UCU
REFRESH-INTERVAL;VALUE=DURATION:PT1H
X-Robots-Tag:noindex
X-PUBLISHED-TTL:PT1H
BEGIN:VTIMEZONE
TZID:Europe/London
BEGIN:DAYLIGHT
TZOFFSETFROM:+0000
TZOFFSETTO:+0100
TZNAME:BST
DTSTART:20210328T010000
END:DAYLIGHT
BEGIN:STANDARD
TZOFFSETFROM:+0100
TZOFFSETTO:+0000
TZNAME:GMT
DTSTART:20211031T010000
END:STANDARD
BEGIN:DAYLIGHT
TZOFFSETFROM:+0000
TZOFFSETTO:+0100
TZNAME:BST
DTSTART:20220327T010000
END:DAYLIGHT
BEGIN:STANDARD
TZOFFSETFROM:+0100
TZOFFSETTO:+0000
TZNAME:GMT
DTSTART:20221030T010000
END:STANDARD
BEGIN:DAYLIGHT
TZOFFSETFROM:+0000
TZOFFSETTO:+0100
TZNAME:BST
DTSTART:20230326T010000
END:DAYLIGHT
BEGIN:STANDARD
TZOFFSETFROM:+0100
TZOFFSETTO:+0000
TZNAME:GMT
DTSTART:20231029T010000
END:STANDARD
END:VTIMEZONE
BEGIN:VEVENT
DTSTART;TZID=Europe/London:20220506T120000
DTEND;TZID=Europe/London:20220506T120000
DTSTAMP:20260422T191550
CREATED:20210708T102645Z
LAST-MODIFIED:20210708T102645Z
UID:2981-1651838400-1651838400@www.cardiffucu.org.uk
SUMMARY:Deadline for the submission of amendments to Congress
DESCRIPTION:Deadline for the submission of amendments to Congress 2022\nAmendments must be in by – 12 noon\, Friday 6 May 2022 \nCongress will be held Wednesday 1 – Friday 3 June 2022
URL:https://www.cardiffucu.org.uk/event/deadline-for-the-submission-of-amendments-to-congress/
CATEGORIES:UCU National Events
END:VEVENT
BEGIN:VEVENT
DTSTART;VALUE=DATE:20220601
DTEND;VALUE=DATE:20220604
DTSTAMP:20260422T191550
CREATED:20210708T103242Z
LAST-MODIFIED:20210708T103242Z
UID:2985-1654041600-1654300799@www.cardiffucu.org.uk
SUMMARY:UCU National Congress 2022
DESCRIPTION:Congress (2022 meeting)\, 1 – 3 June 2022 \nCongress will be held Wednesday 1 – Friday 3 June 2022.  Branch/local association secretaries are asked to take the following deadlines into account when planning their meetings for 2021-2022: \nDeadline for the submission of motions: 12 noon\, Friday 18 March 2022 \nCongress motions\, as set out in the first report of the Congress Business Committee\, will be available in the week beginning 28 March. \nDeadline for the submission of amendments: 12 noon\, Friday 6 May 2022
URL:https://www.cardiffucu.org.uk/event/ucu-national-congress-2022/
CATEGORIES:UCU National Events
END:VEVENT
BEGIN:VEVENT
DTSTART;VALUE=DATE:20221202
DTEND;VALUE=DATE:20221205
DTSTAMP:20260422T191550
CREATED:20210708T105823Z
LAST-MODIFIED:20210708T105823Z
UID:2989-1669939200-1670198399@www.cardiffucu.org.uk
SUMMARY:Annual equality groups conference 2022
DESCRIPTION:Annual equality groups conference (Black members\, Disabled members\, LGBT+ members\, Migrant members\, Women members)\, including joint session and individual conferences: Thursday 2 December – Saturday 4 December 2021 \nDeadline for registration of delegates: to be confirmed \nDeadline for submission of motions: Thursday 11 November 2021 \nDeadline for submission of committee nominations: Thursday 18 November 2021
URL:https://www.cardiffucu.org.uk/event/annual-equality-groups-conference-2022/
CATEGORIES:UCU National Events
END:VEVENT
END:VCALENDAR