BEGIN:VCALENDAR
VERSION:2.0
PRODID:-//Cardiff UCU - ECPv6.15.17.1//NONSGML v1.0//EN
CALSCALE:GREGORIAN
METHOD:PUBLISH
X-ORIGINAL-URL:https://www.cardiffucu.org.uk
X-WR-CALDESC:Events for Cardiff UCU
REFRESH-INTERVAL;VALUE=DURATION:PT1H
X-Robots-Tag:noindex
X-PUBLISHED-TTL:PT1H
BEGIN:VTIMEZONE
TZID:Europe/London
BEGIN:DAYLIGHT
TZOFFSETFROM:+0000
TZOFFSETTO:+0100
TZNAME:BST
DTSTART:20210328T010000
END:DAYLIGHT
BEGIN:STANDARD
TZOFFSETFROM:+0100
TZOFFSETTO:+0000
TZNAME:GMT
DTSTART:20211031T010000
END:STANDARD
BEGIN:DAYLIGHT
TZOFFSETFROM:+0000
TZOFFSETTO:+0100
TZNAME:BST
DTSTART:20220327T010000
END:DAYLIGHT
BEGIN:STANDARD
TZOFFSETFROM:+0100
TZOFFSETTO:+0000
TZNAME:GMT
DTSTART:20221030T010000
END:STANDARD
BEGIN:DAYLIGHT
TZOFFSETFROM:+0000
TZOFFSETTO:+0100
TZNAME:BST
DTSTART:20230326T010000
END:DAYLIGHT
BEGIN:STANDARD
TZOFFSETFROM:+0100
TZOFFSETTO:+0000
TZNAME:GMT
DTSTART:20231029T010000
END:STANDARD
END:VTIMEZONE
BEGIN:VEVENT
DTSTART;TZID=Europe/London:20220318T103000
DTEND;TZID=Europe/London:20220318T120000
DTSTAMP:20260421T200525
CREATED:20210708T103050Z
LAST-MODIFIED:20210708T103050Z
UID:2983-1647599400-1647604800@www.cardiffucu.org.uk
SUMMARY:Deadline for the submission of motions for congress
DESCRIPTION:Deadline for the submission of motions for Congress 2022: 12 noon\, Friday 18 March 2022\n \nCongress motions\, as set out in the first report of the Congress Business Committee\, will be available in the week beginning 28 March. \n\nCongress will be held Wednesday 1 – Friday 3 June 2022.  
URL:https://www.cardiffucu.org.uk/event/deadline-for-the-submission-of-motions-for-congress/
CATEGORIES:UCU National Events
END:VEVENT
END:VCALENDAR